BEGIN:VCALENDAR
VERSION:2.0
PRODID:icalendar-ruby
CALSCALE:GREGORIAN
METHOD:PUBLISH
BEGIN:VEVENT
DTSTAMP:20260423T050935Z
UID:1-1947614@santarosa.tithelysetup3.com
DTSTART:20260822T163000Z
DTEND:20260823T173000Z
CLASS:PUBLIC
CREATED:20260422T182502
DESCRIPTION:We will post a Zoom event that you can use to either video or c
 all in to.
LAST-MODIFIED:20260422T182502
LOCATION:All over the world
SUMMARY:Prayer Time 
URL;VALUE=URI:https://santarosa.tithelysetup3.com/events/prayer-time/2026-0
 8-22
ATTACH;FILENAME=priscilla-du-preez-234138-unsplash.jpg;FMTTYPE=image/jpeg:h
 ttps://dq5pwpg1q8ru0.cloudfront.net/2020/05/27/21/48/39/a3b4651e-8568-4c64
 -8d95-df9a73480aff/priscilla-du-preez-234138-unsplash.jpg
END:VEVENT
END:VCALENDAR
